Workbook
Name Airport: 'G6 Options'!#REF!

Sheet Instructions
C3: Bidder : | D3: Bidder Company Name
C4: Project Name | D4: Develoment of ROAST system
C5: Foreign Currency: | D5: FC
C6: ROE: 1R= | D6: 0.1
C7: Date: | D7: 46325
C10: This file contains the following sheets:
C11: G1 SUMMARY | D11: Summary of all sheets.
C12: G2_1 PMP | D12: Project management and associated costs.
C13: G2_2 Documentation and Training | D13: System documentation, Training, and packaging
C14: G3_1 System Design and Testing | D14: System design and testing costs
C15: G3_2 ROAST Development | D15: Software development and hardware costs
C16: G4 Miscellaneous | D16: All miscellaneous items costs
C17: G6 Options | D17: All optional items and costs
C20: VAT SHALL BE CLEARLY INDICATED ON THE G1 SUMMARY SHEET
C21: THE BIDDER SHALL BE RESPONSIBLE FOR VERIFYING THAT THERE ARE NO ERROS IN QUANTITIES, PRICING, CALCULATIONS AND TOTALS AS INDICATED ON THEIR SUBMITTED PRICING SCHEDULE

Sheet G1 SUMMARY
A1: BIDDER PRICE SCHEDULE: APPENDIX G1
A2: (INCLUDING VALUE ADDED TAX)
A3: BIDDER : | C3: =Instructions!D3 -> Bidder Company Name
A4: DESCRIPTION : | C4: =Instructions!D4 -> Develoment of ROAST system
A5: Item Nr: | C5: G1
A6: Item Description: | C6: SUMMARY
A7: Foreign Currency | C7: =Instructions!D5 -> FC
A8: ROE: 1R = | C8: =Instructions!D6 -> 0.1
C10: Overseas Items | I10: Local Items
A12: Schedule Item Number | B12: Description | C12: Foreign Currency | D12: Quantity | E12: Foreign Amount Unit Cost | F12: Foreign Amount Total Cost | G12: ROE: 1R = … | H12: Total Foreign Cost in Rands | I12: Quantity | J12: Local Amount Unit Cost | K12: Local Amount Total Cost | L12: Total Rands
A16: G2 | B16: SERVICES
A17: G2.1 | B17: Project Management | C17: =C7 -> FC | E17: ='G2_1 PMP'!E28 -> 0 | F17: ='G2_1 PMP'!F28 -> 0 | G17: ='G2_1 PMP'!G28 -> 0.1 | H17: ='G2_1 PMP'!H28 -> 0 | J17: ='G2_1 PMP'!J28 -> 0 | K17: ='G2_1 PMP'!K28 -> 0 | L17: ='G2_1 PMP'!L28 -> 0
A18: G2.2.1 | B18: System Documentations | C18: =C7 -> FC | E18: ='G2_2 Documentation and Training'!E27 -> 0 | F18: ='G2_2 Documentation and Training'!F27 -> 0 | G18: ='G2_2 Documentation and Training'!G27 -> 0.1 | H18: ='G2_2 Documentation and Training'!H27 -> 0 | J18: ='G2_2 Documentation and Training'!J27 -> 0 | K18: ='G2_2 Documentation and Training'!K27 -> 0 | L18: ='G2_2 Documentation and Training'!L27 -> 0
A19: G2.2.2 | B19: System Training | C19: =C7 -> FC | E19: ='G2_2 Documentation and Training'!E35 -> 0 | F19: ='G2_2 Documentation and Training'!F35 -> 0 | G19: ='G2_2 Documentation and Training'!G35 -> 0.1 | H19: ='G2_2 Documentation and Training'!H35 -> 0 | J19: ='G2_2 Documentation and Training'!J35 -> 0 | K19: ='G2_2 Documentation and Training'!K35 -> 0 | L19: ='G2_2 Documentation and Training'!L35 -> 0
A20: G2.2.3 | B20: Commercialisation and Packaging | C20: =C7 -> FC | E20: ='G2_2 Documentation and Training'!E46 -> 0 | F20: ='G2_2 Documentation and Training'!F46 -> 0 | G20: ='G2_2 Documentation and Training'!G46 -> 0.1 | H20: ='G2_2 Documentation and Training'!H46 -> 0 | J20: ='G2_2 Documentation and Training'!J46 -> 0 | K20: ='G2_2 Documentation and Training'!K46 -> 0 | L20: ='G2_2 Documentation and Training'!L46 -> 0
A21: G2.2.4 | B21: ROAST System Certification | C21: =C7 -> FC | E21: ='G2_2 Documentation and Training'!E58 -> 0 | F21: ='G2_2 Documentation and Training'!F58 -> 0 | G21: ='G2_2 Documentation and Training'!G58 -> 0.1 | H21: ='G2_2 Documentation and Training'!H58 -> 0 | J21: ='G2_2 Documentation and Training'!J58 -> 0 | K21: ='G2_2 Documentation and Training'!K58 -> 0 | L21: ='G2_2 Documentation and Training'!L58 -> 0
A23: G3 | B23: SOFTWARE DESIGN, DEVELOPMENT AND INTEGRATION
A24: G3.1.1 | B24: Software design | C24: =C7 -> FC | E24: ='G3_1 System Design and Testing'!E38 -> 0 | F24: ='G3_1 System Design and Testing'!F38 -> 0 | G24: ='G3_1 System Design and Testing'!G38 -> 0.1 | H24: ='G3_1 System Design and Testing'!H38 -> 0 | J24: ='G3_1 System Design and Testing'!J38 -> 0 | K24: ='G3_1 System Design and Testing'!K38 -> 0 | L24: ='G3_1 System Design and Testing'!L38 -> 0
A25: G3.1.2 | B25: Software integration and testing | C25: =C7 -> FC | E25: ='G3.2 ROAST Development'!E38 -> 0 | F25: ='G3.2 ROAST Development'!F38 -> 0 | G25: ='G3.2 ROAST Development'!G38 -> 0.1 | H25: ='G3.2 ROAST Development'!H38 -> 0 | J25: ='G3.2 ROAST Development'!J38 -> 0 | K25: ='G3.2 ROAST Development'!K38 -> 0 | L25: ='G3.2 ROAST Development'!L38 -> 0
A26: G3.2.1 | B26: ROAST Hardware | C26: =C7 -> FC | E26: ='G3.2 ROAST Development'!E26 -> 0 | F26: ='G3.2 ROAST Development'!F26 -> 0 | G26: ='G3.2 ROAST Development'!G26 -> 0.1 | H26: ='G3.2 ROAST Development'!H26 -> 0 | J26: ='G3.2 ROAST Development'!J26 -> 0 | K26: ='G3.2 ROAST Development'!K26 -> 0 | L26: ='G3.2 ROAST Development'!L26 -> 0
A27: G3.2.2 | B27: ROAST Software development | C27: =C7 -> FC | E27: ='G3.2 ROAST Development'!E38 -> 0 | F27: ='G3.2 ROAST Development'!F38 -> 0 | G27: ='G3.2 ROAST Development'!G38 -> 0.1 | H27: ='G3.2 ROAST Development'!H38 -> 0 | J27: ='G3.2 ROAST Development'!J38 -> 0 | K27: ='G3.2 ROAST Development'!K38 -> 0 | L27: ='G3.2 ROAST Development'!L38 -> 0
A29: G4 | B29: MISCELLANEOUS | E29: ='G4 Miscellaneous'!E42 -> 0 | F29: ='G4 Miscellaneous'!F42 -> 0 | G29: ='G4 Miscellaneous'!G42 -> 0.1 | H29: ='G4 Miscellaneous'!H42 -> 0 | I29: ='G4 Miscellaneous'!I42 -> 0 | J29: ='G4 Miscellaneous'!J42 -> 0 | K29: ='G4 Miscellaneous'!K42 -> 0 | L29: ='G4 Miscellaneous'!L41 -> 0
B35: GRAND TOTAL | E35: =E31+E33 -> 0 | F35: =F31+F33 -> 0 | H35: =H31+H33 -> 0 | J35: =J31+J33 -> 0 | K35: =K31+K33 -> 0 | L35: =SUM(L17:L29) -> 0
A37: G6 | B37: OPTIONS | C37: =C7 -> FC | E37: ='G6 Options'!E62 -> 0 | F37: ='G6 Options'!F62 -> 0 | G37: ='G6 Options'!G62 -> 0.1 | H37: ='G6 Options'!H62 -> 0 | I37: ='G6 Options'!I62 -> 0 | J37: ='G6 Options'!J62 -> 0 | K37: ='G6 Options'!K62 -> 0 | L37: ='G6 Options'!L62 -> 0
B39: GRAND TOTAL (Including Options) | E39: =E35+E37 -> 0 | F39: =F35+F37 -> 0 | H39: =H35+H37 -> 0 | J39: =J35+J37 -> 0 | K39: =K35+K37 -> 0 | L39: =L35+L37 -> 0
B41: VAT (15%) | E41: =0.15*E39 -> 0 | F41: =0.15*F39 -> 0 | H41: =0.15*H39 -> 0 | J41: =0.15*J39 -> 0 | K41: =0.15*K39 -> 0 | L41: =0.15*L39 -> 0
B43: GRAND TOTAL (Including VAT) | E43: =E39+E41 -> 0 | F43: =F39+F41 -> 0 | H43: =H39+H41 -> 0 | J43: =J39+J41 -> 0 | K43: =K39+K41 -> 0 | L43: =L39+L41 -> 0

Sheet G2_1 PMP
A1: BIDDER PRICE SCHEDULE: APPENDIX G2.1
A2: (INCLUDING VALUE ADDED TAX)
A3: BIDDER : | B3: =Instructions!D3 -> Bidder Company Name
A4: PROJECT : | B4: =Instructions!D4 -> Develoment of ROAST system
A5: Item Nr: | B5: G2.1
A6: Item Description: | B6: Project Management
A7: Foreign Currancy | B7: =Instructions!D5 -> FC
A8: ROE: 1R = | B8: =Instructions!D6 -> 0.1
C10: Overseas Items | I10: Local Items
A12: Schedule Item Number | B12: Description | C12: Foreign Currency | D12: Quantity | E12: Foreign Amount Unit Cost | F12: Foreign Amount Total Cost | G12: ROE: 1R = … | H12: Total Foreign Cost in Rands | I12: Quantity | J12: Local Amount Unit Cost | K12: Local Amount Total Cost | L12: Total Rands
A15: =B5 -> G2.1 | B15: =B6 -> Project Management
B16: {All project Management items, with at least the following items. Additional items must be added and quantities adjusted by the bidder as necessary.}
A18: 2.1.1 | B18: Documents:
B19: Project Management Plan | C19: =$B$7 -> FC | F19: =D19*E19 -> 0 | G19: =$B$8 -> 0.1 | H19: =IF(G19<>0,F19/G19,0) -> 0 | K19: =I19*J19 -> 0 | L19: =IF(OR(J19>0,H19>0),H19+K19,0) -> 0
B20: Master Project Schedule | C20: =$B$7 -> FC | F20: =D20*E20 -> 0 | G20: =$B$8 -> 0.1 | H20: =IF(G20<>0,F20/G20,0) -> 0 | K20: =I20*J20 -> 0 | L20: =IF(OR(J20>0,H20>0),H20+K20,0) -> 0
C21: =$B$7 -> FC | F21: =D21*E21 -> 0 | G21: =$B$8 -> 0.1 | H21: =IF(G21<>0,F21/G21,0) -> 0 | K21: =I21*J21 -> 0 | L21: =IF(OR(J21>0,H21>0),H21+K21,0) -> 0
C22: =$B$7 -> FC | F22: =D22*E22 -> 0 | G22: =$B$8 -> 0.1 | H22: =IF(G22<>0,F22/G22,0) -> 0 | K22: =I22*J22 -> 0 | L22: =IF(OR(J22>0,H22>0),H22+K22,0) -> 0
A23: 2.1.2 | B23: Project Management Services | F23: =D23*E23 -> 0
B24: All PM Services | C24: =$B$7 -> FC | F24: =D24*E24 -> 0 | G24: =$B$8 -> 0.1 | H24: =IF(G24<>0,F24/G24,0) -> 0 | K24: =I24*J24 -> 0 | L24: =IF(OR(J24>0,H24>0),H24+K24,0) -> 0
B25: ACSA Permits | C25: =$B$7 -> FC | F25: =D25*E25 -> 0 | G25: =$B$8 -> 0.1 | H25: =IF(G25<>0,F25/G25,0) -> 0 | K25: =I25*J25 -> 0 | L25: =IF(OR(J25>0,H25>0),H25+K25,0) -> 0
C26: =$B$7 -> FC | F26: =D26*E26 -> 0 | G26: =$B$8 -> 0.1 | H26: =IF(G26<>0,F26/G26,0) -> 0 | K26: =I26*J26 -> 0 | L26: =IF(OR(J26>0,H26>0),H26+K26,0) -> 0
C27: =$B$7 -> FC | F27: =D27*E27 -> 0 | G27: =$B$8 -> 0.1 | H27: =IF(G27<>0,F27/G27,0) -> 0 | K27: =I27*J27 -> 0 | L27: =IF(OR(J27>0,H27>0),H27+K27,0) -> 0
B28: =+"SUB-TOTAL: "&A15 -> SUB-TOTAL: G2.1 | E28: =SUM(E15:E27) -> 0 | F28: =SUM(F15:F27) -> 0 | G28: =$B$8 -> 0.1 | H28: =SUM(H15:H27) -> 0 | J28: =SUM(J15:J27) -> 0 | K28: =SUM(K15:K27) -> 0 | L28: =SUM(L15:L27) -> 0
B29: VAT (15%) | L29: =0.15*L28 -> 0

Sheet G2_2 Documentation and Training
A1: BIDDER PRICE SCHEDULE: APPENDIX G2.2
A2: (INCLUDING VALUE ADDED TAX)
A3: BIDDER : | B3: =Instructions!D3 -> Bidder Company Name
A4: PROJECT : | B4: =Instructions!D4 -> Develoment of ROAST system
A5: Item Nr: | B5: G2.2
A6: Item Description: | B6: Documentations, Training and Product Packaging,
A7: Foreign Currancy | B7: =Instructions!D5 -> FC
A8: ROE: 1R = | B8: =Instructions!D6 -> 0.1
C10: Overseas Items | I10: Local Items
A12: Schedule Item Number | B12: Description | C12: Foreign Currency | D12: Quantity | E12: Foreign Amount Unit Cost | F12: Foreign Amount Total Cost | G12: ROE: 1R = … | H12: Total Foreign Cost in Rands | I12: Quantity | J12: Local Amount Unit Cost | K12: Local Amount Total Cost | L12: Total Rands
A15: =B5 -> G2.2 | B15: =B6 -> Documentations, Training and Product Packaging,
B16: { All logistic support items with at least the following items. Additional items must be added and quantities adjusted by the bidder as necessary.}
A18: G2.2.1 | B18: System Documentation
B19: Technical Manual | C19: =$B$7 -> FC | F19: =D19*E19 -> 0 | G19: =$B$8 -> 0.1 | H19: =IF(G19<>0,F19/G19,0) -> 0 | K19: =I19*J19 -> 0 | L19: =IF(OR(J19>0,H19>0),H19+K19,0) -> 0
B20: User Manuals | C20: =$B$7 -> FC | F20: =D20*E20 -> 0 | G20: =$B$8 -> 0.1 | H20: =IF(G20<>0,F20/G20,0) -> 0 | K20: =I20*J20 -> 0 | L20: =IF(OR(J20>0,H20>0),H20+K20,0) -> 0
B21: Maintenance Manuals | C21: =$B$7 -> FC | F21: =D21*E21 -> 0 | G21: =$B$8 -> 0.1 | H21: =IF(G21<>0,F21/G21,0) -> 0 | K21: =I21*J21 -> 0 | L21: =IF(OR(J21>0,H21>0),H21+K21,0) -> 0
B22: As-built documentation | C22: =$B$7 -> FC | F22: =D22*E22 -> 0 | G22: =$B$8 -> 0.1 | H22: =IF(G22<>0,F22/G22,0) -> 0 | K22: =I22*J22 -> 0 | L22: =IF(OR(J22>0,H22>0),H22+K22,0) -> 0
B23: Software licences documentation | C23: FC
B24: Product legal documentations | C24: FC
B27: =+"SUB-TOTAL: "&A18 -> SUB-TOTAL: G2.2.1 | E27: =SUM(E17:E24) -> 0 | F27: =SUM(F17:F24) -> 0 | G27: =$B$8 -> 0.1 | H27: =SUM(H17:H24) -> 0 | J27: =SUM(J17:J24) -> 0 | K27: =SUM(K17:K24) -> 0 | L27: =SUM(L17:L24) -> 0
B28: VAT (15%) | L28: =0.15*L27 -> 0
A30: G2.2.2 | B30: Training
B31: Training Material Development | C31: =$B$7 -> FC | F31: =D31*E31 -> 0 | G31: =$B$8 -> 0.1 | H31: =IF(G31<>0,F31/G31,0) -> 0 | K31: =I31*J31 -> 0 | L31: =IF(OR(J31>0,H31>0),H31+K31,0) -> 0
B32: Operator training | C32: =$B$7 -> FC | F32: =D32*E32 -> 0 | G32: =$B$8 -> 0.1 | H32: =IF(G32<>0,F32/G32,0) -> 0 | K32: =I32*J32 -> 0 | L32: =IF(OR(J32>0,H32>0),H32+K32,0) -> 0
B33: Maintenance Training | C33: =$B$7 -> FC
B35: =+"SUB-TOTAL: "&A30 -> SUB-TOTAL: G2.2.2 | E35: =SUM(E31:E34) -> 0 | F35: =SUM(F31:F34) -> 0 | G35: =$B$8 -> 0.1 | H35: =SUM(H31:H34) -> 0 | J35: =SUM(J31:J34) -> 0 | K35: =SUM(K31:K34) -> 0 | L35: =SUM(L31:L34) -> 0
B36: VAT (15%) | L36: =0.15*L35 -> 0
A38: G2.2.3 | B38: Commercialisation and Packaging
B39: Packaging Design | C39: =$B$7 -> FC | F39: =D39*E39 -> 0 | G39: =$B$8 -> 0.1 | H39: =IF(G39<>0,F39/G39,0) -> 0 | K39: =I39*J39 -> 0 | L39: =IF(OR(J39>0,H39>0),H39+K39,0) -> 0
B40: Branding | C40: =$B$7 -> FC | F40: =D40*E40 -> 0 | G40: =$B$8 -> 0.1 | H40: =IF(G40<>0,F40/G40,0) -> 0 | K40: =I40*J40 -> 0 | L40: =IF(OR(J40>0,H40>0),H40+K40,0) -> 0
B41: Brochure Development | C41: =$B$7 -> FC | F41: =D41*E41 -> 0 | G41: =$B$8 -> 0.1 | H41: =IF(G41<>0,F41/G41,0) -> 0 | K41: =I41*J41 -> 0 | L41: =IF(OR(J41>0,H41>0),H41+K41,0) -> 0
C42: =$B$7 -> FC | F42: =D42*E42 -> 0 | G42: =$B$8 -> 0.1 | H42: =IF(G42<>0,F42/G42,0) -> 0 | K42: =I42*J42 -> 0 | L42: =IF(OR(J42>0,H42>0),H42+K42,0) -> 0
C43: =$B$7 -> FC | F43: =D43*E43 -> 0 | G43: =$B$8 -> 0.1 | H43: =IF(G43<>0,F43/G43,0) -> 0 | K43: =I43*J43 -> 0 | L43: =IF(OR(J43>0,H43>0),H43+K43,0) -> 0
C44: =$B$7 -> FC | F44: =D44*E44 -> 0 | G44: =$B$8 -> 0.1 | H44: =IF(G44<>0,F44/G44,0) -> 0 | K44: =I44*J44 -> 0 | L44: =IF(OR(J44>0,H44>0),H44+K44,0) -> 0
C45: =$B$7 -> FC | F45: =D45*E45 -> 0 | G45: =$B$8 -> 0.1 | H45: =IF(G45<>0,F45/G45,0) -> 0 | K45: =I45*J45 -> 0 | L45: =IF(OR(J45>0,H45>0),H45+K45,0) -> 0
B46: =+"SUB-TOTAL: "&A38 -> SUB-TOTAL: G2.2.3 | E46: =SUM(E39:E45) -> 0 | F46: =SUM(F39:F45) -> 0 | G46: =$B$8 -> 0.1 | H46: =SUM(H39:H45) -> 0 | J46: =SUM(J39:J45) -> 0 | K46: =SUM(K39:K45) -> 0 | L46: =SUM(L39:L45) -> 0
B47: VAT (15%) | L47: =0.15*L46 -> 0
A49: G2.2.4 | B49: Certification and Safety Case
B50: Harzard Analysis | C50: =$B$7 -> FC | F50: =D50*E50 -> 0 | G50: =$B$8 -> 0.1 | H50: =IF(G50<>0,F50/G50,0) -> 0 | K50: =I50*J50 -> 0 | L50: =IF(OR(J50>0,H50>0),H50+K50,0) -> 0
B51: Safety Assessment | C51: =$B$7 -> FC | F51: =D51*E51 -> 0 | G51: =$B$8 -> 0.1 | H51: =IF(G51<>0,F51/G51,0) -> 0 | K51: =I51*J51 -> 0 | L51: =IF(OR(J51>0,H51>0),H51+K51,0) -> 0
B52: System Certification | C52: =$B$7 -> FC | F52: =D52*E52 -> 0 | G52: =$B$8 -> 0.1 | H52: =IF(G52<>0,F52/G52,0) -> 0 | K52: =I52*J52 -> 0 | L52: =IF(OR(J52>0,H52>0),H52+K52,0) -> 0
C53: =$B$7 -> FC | F53: =D53*E53 -> 0 | G53: =$B$8 -> 0.1 | H53: =IF(G53<>0,F53/G53,0) -> 0 | K53: =I53*J53 -> 0 | L53: =IF(OR(J53>0,H53>0),H53+K53,0) -> 0
C54: =$B$7 -> FC | F54: =D54*E54 -> 0 | G54: =$B$8 -> 0.1 | H54: =IF(G54<>0,F54/G54,0) -> 0 | K54: =I54*J54 -> 0 | L54: =IF(OR(J54>0,H54>0),H54+K54,0) -> 0
C55: =$B$7 -> FC | F55: =D55*E55 -> 0 | G55: =$B$8 -> 0.1 | H55: =IF(G55<>0,F55/G55,0) -> 0 | K55: =I55*J55 -> 0 | L55: =IF(OR(J55>0,H55>0),H55+K55,0) -> 0
C56: =$B$7 -> FC | F56: =D56*E56 -> 0 | G56: =$B$8 -> 0.1 | H56: =IF(G56<>0,F56/G56,0) -> 0 | K56: =I56*J56 -> 0 | L56: =IF(OR(J56>0,H56>0),H56+K56,0) -> 0
C57: =$B$7 -> FC | F57: =D57*E57 -> 0 | G57: =$B$8 -> 0.1 | H57: =IF(G57<>0,F57/G57,0) -> 0 | K57: =I57*J57 -> 0 | L57: =IF(OR(J57>0,H57>0),H57+K57,0) -> 0
B58: =+"SUB-TOTAL: "&A49 -> SUB-TOTAL: G2.2.4 | E58: =SUM(E50:E57) -> 0 | F58: =SUM(F50:F57) -> 0 | G58: =$B$8 -> 0.1 | H58: =SUM(H50:H57) -> 0 | J58: =SUM(J50:J57) -> 0 | K58: =SUM(K50:K57) -> 0 | L58: =SUM(L50:L57) -> 0
B59: VAT (15%) | L59: =0.15*L58 -> 0

Sheet G3_1 System Design and Testing
A1: BIDDER PRICE SCHEDULE: APPENDIX G3.1
A2: (INCLUDING VALUE ADDED TAX)
A3: BIDDER : | B3: =Instructions!D3 -> Bidder Company Name
A4: PROJECT : | B4: =Instructions!D4 -> Develoment of ROAST system
A5: Item Nr: | B5: G3.1
A6: Item Description: | B6: System Design and testing
A7: Foreign Currancy | B7: =Instructions!D5 -> FC
A8: ROE: 1R = | B8: =Instructions!D6 -> 0.1
C10: Overseas Items | I10: Local Items
A12: Schedule Item Number | B12: Description {Equipment Common to all site} | C12: Foreign Currency | D12: Quantity | E12: Foreign Amount Unit Cost | F12: Foreign Amount Total Cost | G12: ROE: 1R = … | H12: Total Foreign Cost in Rands | I12: Quantity | J12: Local Amount Unit Cost | K12: Local Amount Total Cost | L12: Total Rands
A15: =B5 -> G3.1 | B15: =B6 -> System Design and testing
B16: (All equipment as required, with at least the following headings. Additional items must be added and quantities adjusted by the bidder as necessary.)
A18: G3.1.1 | B18: Systems Design
B19: Requirements Analysis | C19: =$B$7 -> FC | F19: =D19*E19 -> 0 | G19: =$B$8 -> 0.1 | H19: =IF(G19<>0,F19/G19,0) -> 0 | K19: =I19*J19 -> 0 | L19: =IF(OR(J19>0,H19>0),H19+K19,0) -> 0
B20: Functional Specification | C20: =$B$7 -> FC | F20: =D20*E20 -> 0 | G20: =$B$8 -> 0.1 | H20: =IF(G20<>0,F20/G20,0) -> 0 | K20: =I20*J20 -> 0 | L20: =IF(OR(J20>0,H20>0),H20+K20,0) -> 0
B21: System Architecture design | C21: =$B$7 -> FC | F21: =D21*E21 -> 0 | G21: =$B$8 -> 0.1 | H21: =IF(G21<>0,F21/G21,0) -> 0 | K21: =I21*J21 -> 0 | L21: =IF(OR(J21>0,H21>0),H21+K21,0) -> 0
B22: Detailed design | C22: =$B$7 -> FC | F22: =D22*E22 -> 0 | G22: =$B$8 -> 0.1 | H22: =IF(G22<>0,F22/G22,0) -> 0 | K22: =I22*J22 -> 0 | L22: =IF(OR(J22>0,H22>0),H22+K22,0) -> 0
C24: =$B$7 -> FC | F24: =D24*E24 -> 0 | G24: =$B$8 -> 0.1 | H24: =IF(G24<>0,F24/G24,0) -> 0 | K24: =I24*J24 -> 0 | L24: =IF(OR(J24>0,H24>0),H24+K24,0) -> 0
B25: =+"SUB-TOTAL: "&A18 -> SUB-TOTAL: G3.1.1 | E25: =SUM(E19:E24) -> 0 | F25: =SUM(F11:F24) -> 0 | G25: =$B$8 -> 0.1 | H25: =SUM(H19:H24) -> 0 | J25: =SUM(J19:J24) -> 0 | K25: =SUM(K19:K24) -> 0 | L25: =SUM(L19:L24) -> 0
B26: VAT (15%) | L26: =0.15*L25 -> 0
A28: G3.1.2 | B28: Integration, Testing, and Implementation
B29: VCS Integration
B30: Verification Testing | C30: =$B$7 -> FC | F30: =D30*E30 -> 0 | G30: =$B$8 -> 0.1 | H30: =IF(G30<>0,F30/G30,0) -> 0 | K30: =I30*J30 -> 0 | L30: =IF(OR(J30>0,H30>0),H30+K30,0) -> 0
B31: Validation Testing | C31: =$B$7 -> FC | F31: =D31*E31 -> 0 | G31: =$B$8 -> 0.1 | H31: =IF(G31<>0,F31/G31,0) -> 0 | K31: =I31*J31 -> 0 | L31: =IF(OR(J31>0,H31>0),H31+K31,0) -> 0
B32: Site Acceptance Testing | C32: =$B$7 -> FC | F32: =D32*E32 -> 0 | G32: =$B$8 -> 0.1 | H32: =IF(G32<>0,F32/G32,0) -> 0 | K32: =I32*J32 -> 0 | L32: =IF(OR(J32>0,H32>0),H32+K32,0) -> 0
B33: Installation and Commissioning | C33: =$B$7 -> FC | F33: =D33*E33 -> 0 | G33: =$B$8 -> 0.1 | H33: =IF(G33<>0,F33/G33,0) -> 0 | K33: =I33*J33 -> 0 | L33: =IF(OR(J33>0,H33>0),H33+K33,0) -> 0
C34: =$B$7 -> FC | F34: =D34*E34 -> 0 | G34: =$B$8 -> 0.1 | H34: =IF(G34<>0,F34/G34,0) -> 0 | K34: =I34*J34 -> 0 | L34: =IF(OR(J34>0,H34>0),H34+K34,0) -> 0
C35: =$B$7 -> FC | F35: =D35*E35 -> 0 | G35: =$B$8 -> 0.1 | H35: =IF(G35<>0,F35/G35,0) -> 0 | K35: =I35*J35 -> 0 | L35: =IF(OR(J35>0,H35>0),H35+K35,0) -> 0
B38: =+"SUB-TOTAL: "&A28 -> SUB-TOTAL: G3.1.2 | E38: =SUM(E29:E37) -> 0 | F38: =SUM(F29:F37) -> 0 | G38: =$B$8 -> 0.1 | H38: =SUM(H29:H37) -> 0 | J38: =SUM(J29:J37) -> 0 | K38: =SUM(K29:K37) -> 0 | L38: =SUM(L29:L37) -> 0
B39: VAT (15%) | L39: =0.15*L38 -> 0

Sheet G3.2 ROAST Development
A1: BIDDER PRICE SCHEDULE: APPENDIX G3.2
A2: (INCLUDING VALUE ADDED TAX)
A3: BIDDER : | B3: =Instructions!D3 -> Bidder Company Name
A4: PROJECT : | B4: =Instructions!D4 -> Develoment of ROAST system
A5: Item Nr: | B5: G3.2
A6: Item Description: | B6: ROAST Development
A7: Foreign Currency | B7: =Instructions!D5 -> FC
A8: ROE: 1R = | B8: =Instructions!D6 -> 0.1
C10: Overseas Items | I10: Local Items
A12: Schedule Item Number | B12: Description | C12: Foreign Currency | D12: Quantity | E12: Foreign Amount Unit Cost | F12: Foreign Amount Total Cost | G12: ROE: 1R = … | H12: Total Foreign Cost in Rands | I12: Quantity | J12: Local Amount Unit Cost | K12: Local Amount Total Cost | L12: Total Rands
A15: =B5 -> G3.2 | B15: =B6 -> ROAST Development
B16: (All equipment as required, with at least the following headings. Additional items must be added and quantities adjusted by the bidder as necessary.)
A18: G3.2.1 | B18: ROAST Hardware
B20: Hardware components | C20: =$B$7 -> FC | F20: =D20*E20 -> 0 | G20: =$B$8 -> 0.1 | H20: =IF(G20<>0,F20/G20,0) -> 0 | K20: =I20*J20 -> 0 | L20: =IF(OR(J20>0,H20>0),H20+K20,0) -> 0
B21: PCBs and fabrication | C21: =$B$7 -> FC | F21: =D21*E21 -> 0 | G21: =$B$8 -> 0.1 | H21: =IF(G21<>0,F21/G21,0) -> 0 | K21: =I21*J21 -> 0 | L21: =IF(OR(J21>0,H21>0),H21+K21,0) -> 0
B22: Processors and/or controllers | C22: =$B$7 -> FC | F22: =D22*E22 -> 0 | G22: =$B$8 -> 0.1 | H22: =IF(G22<>0,F22/G22,0) -> 0 | K22: =I22*J22 -> 0 | L22: =IF(OR(J22>0,H22>0),H22+K22,0) -> 0
B23: Interfaces | C23: =$B$7 -> FC | F23: =D23*E23 -> 0 | G23: =$B$8 -> 0.1 | H23: =IF(G23<>0,F23/G23,0) -> 0 | K23: =I23*J23 -> 0 | L23: =IF(OR(J23>0,H23>0),H23+K23,0) -> 0
B24: Enclosures | C24: =$B$7 -> FC | F24: =D24*E24 -> 0 | G24: =$B$8 -> 0.1 | H24: =IF(G24<>0,F24/G24,0) -> 0 | K24: =I24*J24 -> 0 | L24: =IF(OR(J24>0,H24>0),H24+K24,0) -> 0
C25: =$B$7 -> FC | F25: =D25*E25 -> 0 | G25: =$B$8 -> 0.1 | H25: =IF(G25<>0,F25/G25,0) -> 0 | K25: =I25*J25 -> 0 | L25: =IF(OR(J25>0,H25>0),H25+K25,0) -> 0
B26: =+"SUB-TOTAL: "&A18 -> SUB-TOTAL: G3.2.1 | E26: =SUM(E19:E25) -> 0 | F26: =SUM(F19:F25) -> 0 | G26: =$B$8 -> 0.1 | H26: =SUM(H19:H25) -> 0 | J26: =SUM(J19:J25) -> 0 | K26: =SUM(K19:K25) -> 0 | L26: =SUM(L19:L25) -> 0
B27: VAT (15%) | L27: =0.15*L26 -> 0
A29: G3.2.2 | B29: ROAST Software Development
B30: (List ALL pricing for software development required, with the following as a minimum)
B31: Embedded/Firmware Development | C31: =$B$7 -> FC | F31: =D31*E31 -> 0 | G31: =$B$8 -> 0.1 | H31: =IF(G31<>0,F31/G31,0) -> 0 | K31: =I31*J31 -> 0 | L31: =IF(OR(J31>0,H31>0),H31+K31,0) -> 0
B32: Application Software Development | C32: =$B$7 -> FC | F32: =D32*E32 -> 0 | G32: =$B$8 -> 0.1 | H32: =IF(G32<>0,F32/G32,0) -> 0 | K32: =I32*J32 -> 0 | L32: =IF(OR(J32>0,H32>0),H32+K32,0) -> 0
B33: Model training data | C33: =$B$7 -> FC | F33: =D33*E33 -> 0 | G33: =$B$8 -> 0.1 | H33: =IF(G33<>0,F33/G33,0) -> 0 | K33: =I33*J33 -> 0 | L33: =IF(OR(J33>0,H33>0),H33+K33,0) -> 0
B34: Software licences | C34: =$B$7 -> FC | F34: =D34*E34 -> 0 | G34: =$B$8 -> 0.1 | H34: =IF(G34<>0,F34/G34,0) -> 0 | K34: =I34*J34 -> 0 | L34: =IF(OR(J34>0,H34>0),H34+K34,0) -> 0
C35: =$B$7 -> FC | F35: =D35*E35 -> 0 | G35: =$B$8 -> 0.1 | H35: =IF(G35<>0,F35/G35,0) -> 0 | K35: =I35*J35 -> 0 | L35: =IF(OR(J35>0,H35>0),H35+K35,0) -> 0
C36: =$B$7 -> FC | F36: =D36*E36 -> 0 | G36: =$B$8 -> 0.1 | H36: =IF(G36<>0,F36/G36,0) -> 0 | K36: =I36*J36 -> 0 | L36: =IF(OR(J36>0,H36>0),H36+K36,0) -> 0
B38: =+"SUB-TOTAL: "&A15 -> SUB-TOTAL: G3.2 | E38: =SUM(E31:E37) -> 0 | F38: =SUM(F31:F37) -> 0 | G38: =$B$8 -> 0.1 | H38: =SUM(H31:H37) -> 0 | J38: =SUM(J31:J37) -> 0 | K38: =SUM(K31:K37) -> 0 | L38: =SUM(L31:L37) -> 0
B39: VAT (15%) | L39: =0.15*L38 -> 0

Sheet G4 Miscellaneous
A1: BIDDER PRICE SCHEDULE: APPENDIX G4
A2: (INCLUDING VALUE ADDED TAX)
A3: BIDDER : | B3: =Instructions!D3 -> Bidder Company Name
A4: PROJECT : | B4: =Instructions!D4 -> Develoment of ROAST system
A5: Item Nr: | B5: G4
A6: Item Description: | B6: MISCELLANEOUS
A7: Foreign Currancy | B7: =Instructions!D5 -> FC
A8: ROE: 1R = | B8: =Instructions!D6 -> 0.1
C10: Overseas Items | I10: Local Items
A12: Schedule Item Number | B12: Description | C12: Foreign Currency | D12: Quantity | E12: Foreign Amount Unit Cost | F12: Foreign Amount Total Cost | G12: ROE: 1R = … | H12: Total Foreign Cost in Rands | I12: Quantity | J12: Local Amount Unit Cost | K12: Local Amount Total Cost | L12: Total Rands
A15: =B5 -> G4 | B15: =B6 -> MISCELLANEOUS
B16: (Items and services necessary for the installation, commissioning, operation and maintenance of the system and not included elsewhere.)
B17: (To be individually itemized and priced.)
A19: 4.1
C20: =$B$7 -> FC | F20: =D20*E20 -> 0 | G20: =$B$8 -> 0.1 | H20: =IF(G20<>0,F20/G20,0) -> 0 | K20: =I20*J20 -> 0 | L20: =IF(OR(J20>0,H20>0),H20+K20,0) -> 0
C21: =$B$7 -> FC | F21: =D21*E21 -> 0 | G21: =$B$8 -> 0.1 | H21: =IF(G21<>0,F21/G21,0) -> 0 | K21: =I21*J21 -> 0 | L21: =IF(OR(J21>0,H21>0),H21+K21,0) -> 0
C22: =$B$7 -> FC | F22: =D22*E22 -> 0 | G22: =$B$8 -> 0.1 | H22: =IF(G22<>0,F22/G22,0) -> 0 | K22: =I22*J22 -> 0 | L22: =IF(OR(J22>0,H22>0),H22+K22,0) -> 0
C23: =$B$7 -> FC | F23: =D23*E23 -> 0 | G23: =$B$8 -> 0.1 | H23: =IF(G23<>0,F23/G23,0) -> 0 | K23: =I23*J23 -> 0 | L23: =IF(OR(J23>0,H23>0),H23+K23,0) -> 0
C24: =$B$7 -> FC | F24: =D24*E24 -> 0 | G24: =$B$8 -> 0.1 | H24: =IF(G24<>0,F24/G24,0) -> 0 | K24: =I24*J24 -> 0 | L24: =IF(OR(J24>0,H24>0),H24+K24,0) -> 0
C25: =$B$7 -> FC | F25: =D25*E25 -> 0 | G25: =$B$8 -> 0.1 | H25: =IF(G25<>0,F25/G25,0) -> 0 | K25: =I25*J25 -> 0 | L25: =IF(OR(J25>0,H25>0),H25+K25,0) -> 0
C26: =$B$7 -> FC | F26: =D26*E26 -> 0 | G26: =$B$8 -> 0.1 | H26: =IF(G26<>0,F26/G26,0) -> 0 | K26: =I26*J26 -> 0 | L26: =IF(OR(J26>0,H26>0),H26+K26,0) -> 0
C27: =$B$7 -> FC | F27: =D27*E27 -> 0 | G27: =$B$8 -> 0.1 | H27: =IF(G27<>0,F27/G27,0) -> 0 | K27: =I27*J27 -> 0 | L27: =IF(OR(J27>0,H27>0),H27+K27,0) -> 0
C28: =$B$7 -> FC | F28: =D28*E28 -> 0 | G28: =$B$8 -> 0.1 | H28: =IF(G28<>0,F28/G28,0) -> 0 | K28: =I28*J28 -> 0 | L28: =IF(OR(J28>0,H28>0),H28+K28,0) -> 0
C29: =$B$7 -> FC | F29: =D29*E29 -> 0 | G29: =$B$8 -> 0.1 | H29: =IF(G29<>0,F29/G29,0) -> 0 | K29: =I29*J29 -> 0 | L29: =IF(OR(J29>0,H29>0),H29+K29,0) -> 0
C30: =$B$7 -> FC | F30: =D30*E30 -> 0 | G30: =$B$8 -> 0.1 | H30: =IF(G30<>0,F30/G30,0) -> 0 | K30: =I30*J30 -> 0 | L30: =IF(OR(J30>0,H30>0),H30+K30,0) -> 0
C31: =$B$7 -> FC | F31: =D31*E31 -> 0 | G31: =$B$8 -> 0.1 | H31: =IF(G31<>0,F31/G31,0) -> 0 | K31: =I31*J31 -> 0 | L31: =IF(OR(J31>0,H31>0),H31+K31,0) -> 0
... C40: =$B$7 -> FC | F40: =D40*E40 -> 0 | G40: =$B$8 -> 0.1 | H40: =IF(G40<>0,F40/G40,0) -> 0 | K40: =I40*J40 -> 0 | L40: =IF(OR(J40>0,H40>0),H40+K40,0) -> 0
B42: =+"SUB-TOTAL: "&A15 -> SUB-TOTAL: G4 | E42: =SUM(E20:E41) -> 0 | F42: =SUM(F20:F41) -> 0 | G42: =$B$8 -> 0.1 | H42: =SUM(H20:H41) -> 0 | J42: =SUM(J20:J41) -> 0 | K42: =SUM(K20:K41) -> 0 | L42: =SUM(L20:L41) -> 0
B43: VAT (15%) | L43: =0.15*L42 -> 0

Sheet G6 Options
A1: BIDDER PRICE SCHEDULE: APPENDIX G5
A2: (INCLUDING VALUE ADDED TAX)
A3: BIDDER : | B3: =Instructions!D3 -> Bidder Company Name
A4: PROJECT : | B4: =Instructions!D4 -> Develoment of ROAST system
A5: Item Nr: | B5: G6
A6: Item Description: | B6: OPTIONS
A7: Foreign Currancy | B7: =Instructions!D5 -> FC
A8: ROE: 1R = | B8: =Instructions!D6 -> 0.1
C10: Overseas Items | I10: Local Items
A12: Schedule Item Number | B12: Description | C12: Foreign Currency | D12: Quantity | E12: Foreign Amount Unit Cost | F12: Foreign Amount Total Cost | G12: ROE: 1R = … | H12: Total Foreign Cost in Rands | I12: Quantity | J12: Local Amount Unit Cost | K12: Local Amount Total Cost | L12: Total Rands
A15: =B5 -> G6 | B15: =B6 -> OPTIONS
A16: G6.1 | B16: Optional Items
C17: =$B$7 -> FC | F17: =D17*E17 -> 0 | G17: =$B$8 -> 0.1 | H17: =IF(G17<>0,F17/G17,0) -> 0 | K17: =I17*J17 -> 0 | L17: =IF(OR(J17>0,H17>0),H17+K17,0) -> 0
C18: =$B$7 -> FC | F18: =D18*E18 -> 0 | G18: =$B$8 -> 0.1 | H18: =IF(G18<>0,F18/G18,0) -> 0 | K18: =I18*J18 -> 0 | L18: =IF(OR(J18>0,H18>0),H18+K18,0) -> 0
C19: =$B$7 -> FC | F19: =D19*E19 -> 0 | G19: =$B$8 -> 0.1 | H19: =IF(G19<>0,F19/G19,0) -> 0 | K19: =I19*J19 -> 0 | L19: =IF(OR(J19>0,H19>0),H19+K19,0) -> 0
C20: =$B$7 -> FC | F20: =D20*E20 -> 0 | G20: =$B$8 -> 0.1 | H20: =IF(G20<>0,F20/G20,0) -> 0 | K20: =I20*J20 -> 0 | L20: =IF(OR(J20>0,H20>0),H20+K20,0) -> 0
C21: =$B$7 -> FC | F21: =D21*E21 -> 0 | G21: =$B$8 -> 0.1 | H21: =IF(G21<>0,F21/G21,0) -> 0 | K21: =I21*J21 -> 0 | L21: =IF(OR(J21>0,H21>0),H21+K21,0) -> 0
C22: =$B$7 -> FC | F22: =D22*E22 -> 0 | G22: =$B$8 -> 0.1 | H22: =IF(G22<>0,F22/G22,0) -> 0 | K22: =I22*J22 -> 0 | L22: =IF(OR(J22>0,H22>0),H22+K22,0) -> 0
C23: =$B$7 -> FC | F23: =D23*E23 -> 0 | G23: =$B$8 -> 0.1 | H23: =IF(G23<>0,F23/G23,0) -> 0 | K23: =I23*J23 -> 0 | L23: =IF(OR(J23>0,H23>0),H23+K23,0) -> 0
C24: =$B$7 -> FC | F24: =D24*E24 -> 0 | G24: =$B$8 -> 0.1 | H24: =IF(G24<>0,F24/G24,0) -> 0 | K24: =I24*J24 -> 0 | L24: =IF(OR(J24>0,H24>0),H24+K24,0) -> 0
C25: =$B$7 -> FC | F25: =D25*E25 -> 0 | G25: =$B$8 -> 0.1 | H25: =IF(G25<>0,F25/G25,0) -> 0 | K25: =I25*J25 -> 0 | L25: =IF(OR(J25>0,H25>0),H25+K25,0) -> 0
C26: =$B$7 -> FC | F26: =D26*E26 -> 0 | G26: =$B$8 -> 0.1 | H26: =IF(G26<>0,F26/G26,0) -> 0 | K26: =I26*J26 -> 0 | L26: =IF(OR(J26>0,H26>0),H26+K26,0) -> 0
C27: =$B$7 -> FC | F27: =D27*E27 -> 0 | G27: =$B$8 -> 0.1 | H27: =IF(G27<>0,F27/G27,0) -> 0 | K27: =I27*J27 -> 0 | L27: =IF(OR(J27>0,H27>0),H27+K27,0) -> 0
C28: =$B$7 -> FC | F28: =D28*E28 -> 0 | G28: =$B$8 -> 0.1 | H28: =IF(G28<>0,F28/G28,0) -> 0 | K28: =I28*J28 -> 0 | L28: =IF(OR(J28>0,H28>0),H28+K28,0) -> 0
... C60: =$B$7 -> FC | F60: =D60*E60 -> 0 | G60: =$B$8 -> 0.1 | H60: =IF(G60<>0,F60/G60,0) -> 0 | K60: =I60*J60 -> 0 | L60: =IF(OR(J60>0,H60>0),H60+K60,0) -> 0
B62: =+"SUB-TOTAL: "&A15 -> SUB-TOTAL: G6 | E62: =SUM(E17:E61) -> 0 | F62: =SUM(F17:F61) -> 0 | G62: =$B$8 -> 0.1 | H62: =SUM(H17:H61) -> 0 | J62: =SUM(J17:J61) -> 0 | K62: =SUM(K17:K61) -> 0 | L62: =SUM(L17:L61) -> 0
B63: VAT (15%) | L63: =0.15*L62 -> 0
